BEGIN:VCALENDAR
VERSION:2.0
PRODID:-//wp-events-plugin.com//6.6.4.4//EN
TZID:Europe/Berlin
X-WR-TIMEZONE:Europe/Berlin
BEGIN:VEVENT
UID:1067@filzfrieda.de
DTSTART;TZID=Europe/Berlin:20260521T170000
DTEND;TZID=Europe/Berlin:20260521T210000
DTSTAMP:20260410T082840Z
URL:https://filzfrieda.de/workshops/zarte-kranze-filzen-fuer-fenster-und-t
 uer-plaetze-frei-12/
SUMMARY:Zarte Kranze filzen für Fenster und Tür  ... ausgebucht!
DESCRIPTION:In diesem Workshop wolle wir zarte Kränze für das Fenster ode
 r für die Tür filzen.\nMit Treibholz und echten Schneckenhäuser werden 
 niedliche Kränze gestaltet.\n\nEs kann aber ein verliebtes Vogelpaar auf 
 dem Treibholz sitzen oder ein Fisch der mit Wasserpflanzen durch den Kranz
  schwimmt.\n\nGemeinsam entwckeln wir Ideen zu Deinem Traumkranz.\n\nGerad
 e im Januar macht es freue gemeinsam kreativ zu sein.\n\nWir verbringen ei
 nen gemütlichen Abend im Atelier und Du nimmst Deinen selbst gefilzten Fr
 öhlichmacher mit nach Hause.\n\nBitte 2 Handtücher mitbringen und evtl. 
 Lampenschirme oder Glaslampen z. B. von Ikea mit bringen. Gläser für Win
 dlichter können im Workshop erworben werden.\n\n59.- Euro pro Pers. zzgl.
  Materialkosten.
ATTACH;FMTTYPE=image/jpeg:https://filzfrieda.de/wp-content/uploads/2025/03
 /IMG_3824_jpg-scaled.jpeg
CATEGORIES:Filzen
LOCATION:Filzfrieda\, Westenstr. 9\, Schwerte\, 58239\, Deutschland
GEO:51.43955;7.568080000000009
X-APPLE-STRUCTURED-LOCATION;VALUE=URI;X-ADDRESS=Westenstr. 9\, Schwerte\, 5
 8239\, Deutschland;X-APPLE-RADIUS=100;X-TITLE=Filzfrieda:geo:51.43955,7.56
 8080000000009
END:VEVENT
BEGIN:VTIMEZONE
TZID:Europe/Berlin
X-LIC-LOCATION:Europe/Berlin
BEGIN:DAYLIGHT
DTSTART:20260329T030000
TZOFFSETFROM:+0100
TZOFFSETTO:+0200
TZNAME:CEST
END:DAYLIGHT
END:VTIMEZONE
END:VCALENDAR