BEGIN:VCALENDAR
VERSION:2.0
PRODID:-//wp-events-plugin.com//6.6.4.4//EN
TZID:Europe/Berlin
X-WR-TIMEZONE:Europe/Berlin
BEGIN:VEVENT
UID:1034@filzfrieda.de
DTSTART;TZID=Europe/Berlin:20260129T170000
DTEND;TZID=Europe/Berlin:20260129T210000
DTSTAMP:20251020T121043Z
URL:https://filzfrieda.de/workshops/zarte-kraenze-filzen-fuer-fenster-und-
 tuer-filzworkshop-fuer-kleine-wintertraeume-plaetze-frei/
SUMMARY:Zarte Kränze filzen für Fenster und Tür – Filzworkshop für kl
 eine Winterträume ... ausgebucht!
DESCRIPTION:"In diesem Workshop filzen wir zarte Kränze – individuelle H
 ingucker\, die Freude bringen.“\nAus Wolle\, Treibholz und vielleicht ec
 hten Schneckenhäusern entsteht ein ganz besonderer Hingucker – zum Beis
 piel ein fröhlicher Schneckenkranz\, ein kleines Eichhörnchen\, das auf 
 einem Ast Platz nimmt\, oder eine geheimnisvolle Eule\, die deinen Kranz b
 ewacht.\nDeiner Fantasie sind keine Grenzen gesetzt! Gemeinsam entwickeln 
 wir kreative Ideen für deinen ganz persönlichen Traumkranz.\nGerade im W
 inter macht es Freude\, gemeinsam zu gestalten\, die warmen Farben zu geni
 eßen und gemütliche Abende im Atelier zu verbringen.\nAm Ende nimmst du 
 deinen selbst gefilzten Fröhlichmacher mit nach Hause – bereit\, dein Z
 uhause zu schmücken.\nBitte zwei Handtücher mitbringen\n55.- Euro pro Pe
 rs. zzgl. Materialkosten.
ATTACH;FMTTYPE=image/jpeg:https://filzfrieda.de/wp-content/uploads/2025/10
 /IMG_3537.jpg
CATEGORIES:Filzen
LOCATION:Filzfrieda\, Westenstr. 9\, Schwerte\, 58239\, Deutschland
GEO:51.43955;7.568080000000009
X-APPLE-STRUCTURED-LOCATION;VALUE=URI;X-ADDRESS=Westenstr. 9\, Schwerte\, 5
 8239\, Deutschland;X-APPLE-RADIUS=100;X-TITLE=Filzfrieda:geo:51.43955,7.56
 8080000000009
END:VEVENT
BEGIN:VTIMEZONE
TZID:Europe/Berlin
X-LIC-LOCATION:Europe/Berlin
BEGIN:STANDARD
DTSTART:20251026T020000
TZOFFSETFROM:+0200
TZOFFSETTO:+0100
TZNAME:CET
END:STANDARD
END:VTIMEZONE
END:VCALENDAR