BEGIN:VCALENDAR
VERSION:2.0
PRODID:-//wp-events-plugin.com//6.6.4.4//EN
TZID:Europe/Berlin
X-WR-TIMEZONE:Europe/Berlin
BEGIN:VEVENT
UID:1058@filzfrieda.de
DTSTART;TZID=Europe/Berlin:20260423T170000
DTEND;TZID=Europe/Berlin:20260423T210000
DTSTAMP:20260223T175852Z
URL:https://filzfrieda.de/workshops/witzige-filztiere-sorgen-fuer-gute-lau
 ne-plaetze-frei-2/
SUMMARY:Witzige Filztiere sorgen für gute Laune ... ausgebucht!
DESCRIPTION:Oh In diesem Workshop filzen wir witzige Filztiere mit einzigar
 tigem Ausdruck. Das kann z.B. ein fröhliches Seepferdchen mit lustiger Tr
 ötschnute sein oder eine niedliche Schnecke oder ein quitschiges Glückss
 chwein mit Steckdosennase. Oder frühlingsfrische Dekorationen wie Fenster
 bilder\, Blüten\, Hasen\, Windlichter etc.\n\nFilze Dir Dein eigenes Lieb
 lingstier und freue Dich auf einen kreativen Abend im gemütlichem Atelier
 !\n\nBitte 2 Handtücher mitbringen.\n\n55.- Euro pro Pers. zzgl. Material
 kosten.
ATTACH;FMTTYPE=image/jpeg:https://filzfrieda.de/wp-content/uploads/2025/03
 /IMG_3851_jpg-1.jpeg
CATEGORIES:Filzen
LOCATION:Filzfrieda\, Westenstr. 9\, Schwerte\, 58239\, Deutschland
GEO:51.43955;7.568080000000009
X-APPLE-STRUCTURED-LOCATION;VALUE=URI;X-ADDRESS=Westenstr. 9\, Schwerte\, 5
 8239\, Deutschland;X-APPLE-RADIUS=100;X-TITLE=Filzfrieda:geo:51.43955,7.56
 8080000000009
END:VEVENT
BEGIN:VTIMEZONE
TZID:Europe/Berlin
X-LIC-LOCATION:Europe/Berlin
BEGIN:DAYLIGHT
DTSTART:20260329T030000
TZOFFSETFROM:+0100
TZOFFSETTO:+0200
TZNAME:CEST
END:DAYLIGHT
END:VTIMEZONE
END:VCALENDAR