BEGIN:VCALENDAR
VERSION:2.0
PRODID:-//wp-events-plugin.com//6.6.4.4//EN
TZID:Europe/Berlin
X-WR-TIMEZONE:Europe/Berlin
BEGIN:VEVENT
UID:1029@filzfrieda.de
DTSTART;TZID=Europe/Berlin:20260105T150000
DTEND;TZID=Europe/Berlin:20260105T170000
DTSTAMP:20251201T081743Z
URL:https://filzfrieda.de/workshops/weihnachts-ferienspass-nachmittags-kre
 ativzeit-fuer-kinder-erwachsene-als-team-plaetze-frei/
SUMMARY:Weihnachts-Ferienspaß NACHMITTAGS – Kreativzeit für Kinder & Er
 wachsene als Team ... ausgebucht!
DESCRIPTION:Langeweile in den Ferien? Nicht mit filzfrieda!\nMacht mit und 
 erlebe zusammen mit Deinem Kind\, Enkel oder Patenkind\, wie viel Spaß es
  macht\, aus flauschiger Wolle kleine Kunstwerke zu zaubern: süße Igel\,
  witzige Eulen\, bunte Monster\, magische Einhörner und vieles mehr.\nEga
 l ob Mutter-Kind\, Vater-Kind\, Oma-Enkel\, Tante-Nichte – alle kreative
 n Duos (oder Trios) sind herzlich willkommen!\nIhr verbringt gemeinsam ein
 e entspannte\, fröhliche Zeit und nehmt am Ende ein selbstgemachtes Liebl
 ingsstück mit nach Hause.\n Preis: 19\,50 € pro Person zzgl. Material
 kosten\n Bitte pro Person einen Platz buchen (z. B. Mutter mit Kind = 2 
 Plätze\, Mutter mit zwei Kindern = 3 Plätze)\nSichert euch jetzt euren P
 latz – die Wolle wartet schon auf euch! ✨\n&nbsp\;\n\n \n
ATTACH;FMTTYPE=image/jpeg:https://filzfrieda.de/wp-content/uploads/2025/08
 /IMG_0710_jpg.jpeg
CATEGORIES:Filzen
LOCATION:Filzfrieda\, Westenstr. 9\, Schwerte\, 58239\, Deutschland
GEO:51.43955;7.568080000000009
X-APPLE-STRUCTURED-LOCATION;VALUE=URI;X-ADDRESS=Westenstr. 9\, Schwerte\, 5
 8239\, Deutschland;X-APPLE-RADIUS=100;X-TITLE=Filzfrieda:geo:51.43955,7.56
 8080000000009
END:VEVENT
BEGIN:VTIMEZONE
TZID:Europe/Berlin
X-LIC-LOCATION:Europe/Berlin
BEGIN:STANDARD
DTSTART:20251026T020000
TZOFFSETFROM:+0200
TZOFFSETTO:+0100
TZNAME:CET
END:STANDARD
END:VTIMEZONE
END:VCALENDAR