BEGIN:VCALENDAR
VERSION:2.0
PRODID:-//wp-events-plugin.com//6.6.4.4//EN
TZID:Europe/Berlin
X-WR-TIMEZONE:Europe/Berlin
BEGIN:VEVENT
UID:726@filzfrieda.de
DTSTART;TZID=Europe/Berlin:20230601T170000
DTEND;TZID=Europe/Berlin:20230601T210000
DTSTAMP:20230201T065917Z
URL:https://filzfrieda.de/workshops/sommerliche-dekorationen-filzen-plaetz
 e-frei-10/
SUMMARY:Sommerliche Dekorationen filzen ... Plätze frei
DESCRIPTION:In diesem Workshop wollen wir sommerliche Dekorationen für die
  Terrasse\, Garten oder Balkon filzen\, das können z.B. Stockfische\, Win
 dlichter\, Pflanzgefäße\, Blumengirlanden etc. sein.\n\nFreue Dich auf e
 inen kreativen Abend im gemütlichem Atelier!\n\nBitte 2 Handtücher mitbr
 ingen.\n\n49.- Euro pro Pers. zzgl. Materialkosten.\n\n&nbsp\;\n\n&nbsp\;
ATTACH;FMTTYPE=image/jpeg:https://filzfrieda.de/wp-content/uploads/2020/04
 /151C11DC-04A4-4A3F-B472-DFB0C323CB0E.jpeg
CATEGORIES:Filzen
LOCATION:Filzfrieda\, Westenstr. 9\, Schwerte\, 58239\, Deutschland
GEO:51.43955;7.568080000000009
X-APPLE-STRUCTURED-LOCATION;VALUE=URI;X-ADDRESS=Westenstr. 9\, Schwerte\, 5
 8239\, Deutschland;X-APPLE-RADIUS=100;X-TITLE=Filzfrieda:geo:51.43955,7.56
 8080000000009
END:VEVENT
BEGIN:VTIMEZONE
TZID:Europe/Berlin
X-LIC-LOCATION:Europe/Berlin
BEGIN:DAYLIGHT
DTSTART:20230326T030000
TZOFFSETFROM:+0100
TZOFFSETTO:+0200
TZNAME:CEST
END:DAYLIGHT
END:VTIMEZONE
END:VCALENDAR