BEGIN:VCALENDAR
VERSION:2.0
PRODID:-//wp-events-plugin.com//6.6.4.4//EN
TZID:Europe/Berlin
X-WR-TIMEZONE:Europe/Berlin
BEGIN:VEVENT
UID:634@filzfrieda.de
DTSTART;TZID=Europe/Berlin:20220713T160000
DTEND;TZID=Europe/Berlin:20220713T180000
DTSTAMP:20220613T062155Z
URL:https://filzfrieda.de/workshops/sommer-ferienspass-mutter-kind-filzen-
 plaetze-frei-3/
SUMMARY:Sommer-Ferienspaß Mutter & Kind filzen ... ausgebucht!
DESCRIPTION:\n 	In den Ferien kommt Langeweile auf?\n\nNicht bei filzfrieda
 ! Entdecke gemeinsam mit Deiner/m Tochter/Sohn oder Enkelkind\, wie viel F
 reude es macht\, fröhliche Filztiere wie z.B. Süße Hasen\, niedliche Sc
 häfchen\, Windlichter\, Blüten usw. aus weicher Wolle herzustellen. Selb
 stverständlich sind auch Vater-Kind\, Oma-Kind\, Tante-Kind oder andere K
 ombinationen willkommen \;-)\nIhr verbringt gemeinsam eine kreative Zeit u
 nd nehmt noch etwas Schönes mit nach Hause.\n\n19\,50 pro Person zzgl. Ma
 terialkosten Bitte pro Person einen Platz buchen (z.B. Mutter mit Kind 2 P
 lätze oder Mutter mit zwei Kindern 3 Plätze)\n\n&nbsp\;\n\n \n
ATTACH;FMTTYPE=image/jpeg:https://filzfrieda.de/wp-content/uploads/2015/01
 /filzfrieda_fisch_kg.jpg
CATEGORIES:Filzen
LOCATION:Filzfrieda\, Westenstr. 9\, Schwerte\, 58239\, Deutschland
GEO:51.43955;7.568080000000009
X-APPLE-STRUCTURED-LOCATION;VALUE=URI;X-ADDRESS=Westenstr. 9\, Schwerte\, 5
 8239\, Deutschland;X-APPLE-RADIUS=100;X-TITLE=Filzfrieda:geo:51.43955,7.56
 8080000000009
END:VEVENT
BEGIN:VTIMEZONE
TZID:Europe/Berlin
X-LIC-LOCATION:Europe/Berlin
BEGIN:DAYLIGHT
DTSTART:20220327T030000
TZOFFSETFROM:+0100
TZOFFSETTO:+0200
TZNAME:CEST
END:DAYLIGHT
END:VTIMEZONE
END:VCALENDAR