BEGIN:VCALENDAR
VERSION:2.0
PRODID:-//wp-events-plugin.com//6.6.4.4//EN
TZID:Europe/Berlin
X-WR-TIMEZONE:Europe/Berlin
BEGIN:VEVENT
UID:867@filzfrieda.de
DTSTART;TZID=Europe/Berlin:20240806T150000
DTEND;TZID=Europe/Berlin:20240806T170000
DTSTAMP:20240715T090120Z
URL:https://filzfrieda.de/workshops/sommer-ferienspass-mutter-kind-filzen-
 plaetze-frei-16/
SUMMARY:Sommer-Ferienspaß Mutter & Kind filzen ... Plätze frei!
DESCRIPTION:In den Ferien kommt Langeweile auf?\n\nNicht bei filzfrieda! En
 tdecke gemeinsam mit Deiner/m Tochter/Sohn oder Enkelkind\, wie viel Freud
 e es macht\, fröhliche Filztiere wie z.B. Süße Hasen\, niedliche Schäf
 chen\, Windlichter\, Blüten usw. aus weicher Wolle herzustellen. Selbstve
 rständlich sind auch Vater-Kind\, Oma-Kind\, Tante-Kind oder andere Kombi
 nationen willkommen \;-)\nIhr verbringt gemeinsam eine kreative Zeit und n
 ehmt noch etwas Schönes mit nach Hause.\n\n19\,50 pro Person zzgl. Materi
 alkosten Bitte pro Person einen Platz buchen (z.B. Mutter mit Kind 2 Plät
 ze oder Mutter mit zwei Kindern 3 Plätze)\n\n&nbsp\;\n\n \n
ATTACH;FMTTYPE=image/jpeg:https://filzfrieda.de/wp-content/uploads/2024/02
 /HipstamaticPhoto-730208839.764815.jpg
CATEGORIES:Filzen
LOCATION:Filzfrieda\, Westenstr. 9\, Schwerte\, 58239\, Deutschland
GEO:51.43955;7.568080000000009
X-APPLE-STRUCTURED-LOCATION;VALUE=URI;X-ADDRESS=Westenstr. 9\, Schwerte\, 5
 8239\, Deutschland;X-APPLE-RADIUS=100;X-TITLE=Filzfrieda:geo:51.43955,7.56
 8080000000009
END:VEVENT
BEGIN:VTIMEZONE
TZID:Europe/Berlin
X-LIC-LOCATION:Europe/Berlin
BEGIN:DAYLIGHT
DTSTART:20240331T030000
TZOFFSETFROM:+0100
TZOFFSETTO:+0200
TZNAME:CEST
END:DAYLIGHT
END:VTIMEZONE
END:VCALENDAR