BEGIN:VCALENDAR
VERSION:2.0
PRODID:-//wp-events-plugin.com//6.6.4.4//EN
TZID:Europe/Berlin
X-WR-TIMEZONE:Europe/Berlin
BEGIN:VEVENT
UID:1080@filzfrieda.de
DTSTART;TZID=Europe/Berlin:20260722T150000
DTEND;TZID=Europe/Berlin:20260722T170000
DTSTAMP:20260413T095254Z
URL:https://filzfrieda.de/workshops/sommer-ferienspass-mutter-kind-filzen-
 nachmittags-plaetze-frei-2/
SUMMARY:Sommer-Ferienspaß Mutter & Kind filzen\, Nachmittags ... Plätze f
 rei!
DESCRIPTION:In den Ferien kommt Langeweile auf?Nicht bei filzfrieda!\nEntde
 ckt gemeinsam mit eurer Tochter\, eurem Sohn oder Enkelkind\, wie viel Fre
 ude es macht\, fröhliche Filztiere aus weicher Wolle herzustellen. Ob Has
 en\, Schäfchen\, Spinnen\, Monster\, Schnecken\, Windlichter und vieles m
 ehr – eurer Kreativität sind keine Grenzen gesetzt.\nWillkommen sind se
 lbstverständlich auch andere Begleitungen wie Vater-Kind\, Oma-Kind\, Tan
 te-Kind oder jede andere Kombination. Ihr verbringt gemeinsam eine kreativ
 e\, entspannte Zeit und nehmt am Ende ein selbstgemachtes Lieblingsstück 
 mit nach Hause.\nBitte pro Teilnehmer*in ein Handtuch mitbringen.\nKosten:
 19\,50 € pro Person zzgl. Materialkosten(Materialkosten ca. 5\,00 € pr
 o Person\, Abrechnung vor Ort)\nBitte pro Person einen Platz buchen(z. B. 
 Mutter mit Kind = 2 Plätze\, Mutter mit zwei Kindern = 3 Plätze)\n&nbsp\
 ;\n\n \n
ATTACH;FMTTYPE=image/jpeg:https://filzfrieda.de/wp-content/uploads/2026/04
 /IMG_9937_jpg.jpg
CATEGORIES:Filzen
LOCATION:Filzfrieda\, Westenstr. 9\, Schwerte\, 58239\, Deutschland
GEO:51.43955;7.568080000000009
X-APPLE-STRUCTURED-LOCATION;VALUE=URI;X-ADDRESS=Westenstr. 9\, Schwerte\, 5
 8239\, Deutschland;X-APPLE-RADIUS=100;X-TITLE=Filzfrieda:geo:51.43955,7.56
 8080000000009
END:VEVENT
BEGIN:VTIMEZONE
TZID:Europe/Berlin
X-LIC-LOCATION:Europe/Berlin
BEGIN:DAYLIGHT
DTSTART:20260329T030000
TZOFFSETFROM:+0100
TZOFFSETTO:+0200
TZNAME:CEST
END:DAYLIGHT
END:VTIMEZONE
END:VCALENDAR