BEGIN:VCALENDAR
VERSION:2.0
PRODID:-//wp-events-plugin.com//6.6.4.4//EN
TZID:Europe/Berlin
X-WR-TIMEZONE:Europe/Berlin
BEGIN:VEVENT
UID:1069@filzfrieda.de
DTSTART;TZID=Europe/Berlin:20260616T170000
DTEND;TZID=Europe/Berlin:20260616T210000
DTSTAMP:20260228T091548Z
URL:https://filzfrieda.de/workshops/rosiges-und-andere-blueten-filzen-plae
 tze-frei-8/
SUMMARY:Rosiges und andere Blüten filzen ... Plätze frei!
DESCRIPTION:Du liebst duftig zarte Rosen\, fröhlichen Prunkwinden und eleg
 anten Callas? Passend zum Sommer filzen wir in diesem Workshop wunderschö
 ne Rosenketten\, Prunkwinden\, Blütenschmuck\, Broschen\, Haarschmuck etc
 . alles was blumig &amp\; romantisch ist.\n\nOder auch ein Rosenschnecke n
 amens Rosi :-\n\nFreue Dich auf einen kreativen Abend im gemütlichem Atel
 ier!\n\nBitte 2 Handtücher mitbringen.\n\n59.- Euro pro Pers. zzgl. Mater
 ialkosten.\n\n&nbsp\;
ATTACH;FMTTYPE=image/jpeg:https://filzfrieda.de/wp-content/uploads/2025/03
 /HipstamaticPhoto-739610700.674920.jpeg
CATEGORIES:Filzen
LOCATION:Filzfrieda\, Westenstr. 9\, Schwerte\, 58239\, Deutschland
GEO:51.43955;7.568080000000009
X-APPLE-STRUCTURED-LOCATION;VALUE=URI;X-ADDRESS=Westenstr. 9\, Schwerte\, 5
 8239\, Deutschland;X-APPLE-RADIUS=100;X-TITLE=Filzfrieda:geo:51.43955,7.56
 8080000000009
END:VEVENT
BEGIN:VTIMEZONE
TZID:Europe/Berlin
X-LIC-LOCATION:Europe/Berlin
BEGIN:DAYLIGHT
DTSTART:20260329T030000
TZOFFSETFROM:+0100
TZOFFSETTO:+0200
TZNAME:CEST
END:DAYLIGHT
END:VTIMEZONE
END:VCALENDAR