BEGIN:VCALENDAR
VERSION:2.0
PRODID:-//wp-events-plugin.com//6.6.4.4//EN
TZID:Europe/Berlin
X-WR-TIMEZONE:Europe/Berlin
BEGIN:VEVENT
UID:933@filzfrieda.de
DTSTART;TZID=Europe/Berlin:20250226T160000
DTEND;TZID=Europe/Berlin:20250226T180000
DTSTAMP:20250131T062204Z
URL:https://filzfrieda.de/workshops/mutter-kind-filzen-plaetze-frei-23/
SUMMARY:Mutter & Kind filzen ... ausgebucht!
DESCRIPTION:Entdecke gemeinsam mit Deiner Tochter oder Deinem Sohn wie viel
  Freude es macht\, fröhliche Schneemänner lustige schneebedeckte Tannenb
 äume oder Wintermonster usw. aus weicher Wolle herzustellen. Selbstverst
 ändlich sind auch Vater-Kind\, Oma-Kind\, Tante-Kind oder andere Kombinat
 ionen willkommen \;-)\nEs ist immer wieder schön zu sehen wie glücklich 
 und stolz die Kinder mit ihren selbstgefilzten Fröhlichmachern sind.\n\nB
 itte 2 Handtücher mitbringen.\n19\,50 pro Perosn zzgl. Materialkosten in 
 Höhe von ca. 5\,-\nSelbstverständlich sind auch Vater-Kind\, Oma-Kind\, 
 Tante-Kind oder andere Kombinationen willkommen \;-)\n\nDU KANNST AUCH MIT
  2 KINDERN ODER MEHR KOMMEN\, BITTE PRO TEILNEHMER EINEN PLATZ BUCHEN.
ATTACH;FMTTYPE=image/jpeg:https://filzfrieda.de/wp-content/uploads/2024/02
 /HipstamaticPhoto-730208787.374816.jpg
CATEGORIES:Filzen
LOCATION:Filzfrieda\, Westenstr. 9\, Schwerte\, 58239\, Deutschland
GEO:51.43955;7.568080000000009
X-APPLE-STRUCTURED-LOCATION;VALUE=URI;X-ADDRESS=Westenstr. 9\, Schwerte\, 5
 8239\, Deutschland;X-APPLE-RADIUS=100;X-TITLE=Filzfrieda:geo:51.43955,7.56
 8080000000009
END:VEVENT
BEGIN:VTIMEZONE
TZID:Europe/Berlin
X-LIC-LOCATION:Europe/Berlin
BEGIN:STANDARD
DTSTART:20241027T020000
TZOFFSETFROM:+0200
TZOFFSETTO:+0100
TZNAME:CET
END:STANDARD
END:VTIMEZONE
END:VCALENDAR