BEGIN:VCALENDAR
VERSION:2.0
PRODID:-//wp-events-plugin.com//6.6.4.4//EN
TZID:Europe/Berlin
X-WR-TIMEZONE:Europe/Berlin
BEGIN:VEVENT
UID:856@filzfrieda.de
DTSTART;TZID=Europe/Berlin:20240605T160000
DTEND;TZID=Europe/Berlin:20240605T180000
DTSTAMP:20240221T113256Z
URL:https://filzfrieda.de/workshops/mutter-kind-filzen-plaetze-frei-14/
SUMMARY:Mutter & Kind filzen ... Plätze frei
DESCRIPTION:Entdecke gemeinsam mit Deiner Tochter oder Deinem Sohn wie viel
  Freude es macht\, fröhliche Schneemänner lustige schneebedeckte Tannenb
 äume oder Wintermonster usw. aus weicher Wolle herzustellen. Selbstverst
 ändlich sind auch Vater-Kind\, Oma-Kind\, Tante-Kind oder andere Kombinat
 ionen willkommen \;-)\n\nEs ist immer wieder schön zu sehen wie glücklic
 h und stolz die Kinder mit ihren selbstgefilzten Fröhlichmachern sind.\n\
 nBitte 2 Handtücher mitbringen.\n19\,50\,- pro Perosn zzgl. Materialkoste
 n in Höhe von ca. 5\,-\nSelbstverständlich sind auch Vater-Kind\, Oma-Ki
 nd\, Tante-Kind oder andere Kombinationen willkommen \;-)\n\nDU KANNST AUC
 H MIT 2 KINDERN ODER MEHR KOMMEN\, BITTE PRO TEILNEHMER EINEN PLATZ BUCHEN
 .
ATTACH;FMTTYPE=image/jpeg:https://filzfrieda.de/wp-content/uploads/2023/06
 /607C6311-CFAC-4616-8FB6-C320E827BC84.jpg
CATEGORIES:Filzen
LOCATION:Filzfrieda\, Westenstr. 9\, Schwerte\, 58239\, Deutschland
GEO:51.43955;7.568080000000009
X-APPLE-STRUCTURED-LOCATION;VALUE=URI;X-ADDRESS=Westenstr. 9\, Schwerte\, 5
 8239\, Deutschland;X-APPLE-RADIUS=100;X-TITLE=Filzfrieda:geo:51.43955,7.56
 8080000000009
END:VEVENT
BEGIN:VTIMEZONE
TZID:Europe/Berlin
X-LIC-LOCATION:Europe/Berlin
BEGIN:DAYLIGHT
DTSTART:20240331T030000
TZOFFSETFROM:+0100
TZOFFSETTO:+0200
TZNAME:CEST
END:DAYLIGHT
END:VTIMEZONE
END:VCALENDAR