BEGIN:VCALENDAR
VERSION:2.0
PRODID:-//wp-events-plugin.com//6.6.4.4//EN
TZID:Europe/Berlin
X-WR-TIMEZONE:Europe/Berlin
BEGIN:VEVENT
UID:34@filzfrieda.de
DTSTART;TZID=Europe/Berlin:20151201T153000
DTEND;TZID=Europe/Berlin:20151201T173000
DTSTAMP:20151017T060124Z
URL:https://filzfrieda.de/workshops/mutter-kind-filzen-gemeinsam/
SUMMARY:Mutter & Kind filzen gemeinsam ... ausgebucht
DESCRIPTION:... entdeckt gemeinsam\, wie viel Freude es macht\, fröhliche 
 Eierwärmer wie z.B. Aliens oder Froschkönige\, Windlichter\, Zopfgummis\
 , Blüten usw. aus weicher Wolle herzustellen.\n18.- Euro pro Person inkl.
  Materialkosten für Wolle. Gläser oder anderes Zubehör wird extra abger
 echnet
ATTACH;FMTTYPE=image/jpeg:https://filzfrieda.de/wp-content/uploads/2015/03
 /filzfrieda_igel05.jpg
CATEGORIES:Filzen
LOCATION:Filzfrieda\, Westenstr. 9\, Schwerte\, 58239\, Deutschland
GEO:51.43955;7.568080000000009
X-APPLE-STRUCTURED-LOCATION;VALUE=URI;X-ADDRESS=Westenstr. 9\, Schwerte\, 5
 8239\, Deutschland;X-APPLE-RADIUS=100;X-TITLE=Filzfrieda:geo:51.43955,7.56
 8080000000009
END:VEVENT
BEGIN:VTIMEZONE
TZID:Europe/Berlin
X-LIC-LOCATION:Europe/Berlin
BEGIN:STANDARD
DTSTART:20151025T020000
TZOFFSETFROM:+0200
TZOFFSETTO:+0100
TZNAME:CET
END:STANDARD
END:VTIMEZONE
END:VCALENDAR