BEGIN:VCALENDAR
VERSION:2.0
PRODID:-//wp-events-plugin.com//6.6.4.4//EN
TZID:Europe/Berlin
X-WR-TIMEZONE:Europe/Berlin
BEGIN:VEVENT
UID:1036@filzfrieda.de
DTSTART;TZID=Europe/Berlin:20260203T170000
DTEND;TZID=Europe/Berlin:20260203T210000
DTSTAMP:20251013T125958Z
URL:https://filzfrieda.de/workshops/leuchtobjekte-und-lampenzauber-plaetze
 -frei-2/
SUMMARY:Leuchtobjekte und Lampenzauber ... Plätze frei!
DESCRIPTION:Der Februar sehnt sich nach Licht – und wir bringen es zum St
 rahlen! \nIn diesem stimmungsvollen Filzworkshop gestaltest du dein eigene
 s kleines Lichtwunder: ein leuchtendes Filzobjekt oder eine einzigartige L
 ampe\, die Wärme und Gemütlichkeit in dein Zuhause bringt.\nLass dich vo
 m sanften Glanz der Wolle inspirieren\, spiele mit Farben und Formen und e
 rschaffe ein Unikat\, das Herz und Raum erhellt. Verbringe einen kreativen
 \, leuchtenden Tag im Atelier von Filzfrieda – \nund nimm am Ende dein g
 anz persönliches Stück Lichtzauber mit nach Hause.\nBitte zwei Handtüch
 er und\, falls vorhanden\, einen Lampenschirm oder eine Glaslampe (z. B.
  von IKEA Model Kvärna) mitbringen. \nWindlicht-Gläser gibt’s auch im 
 Workshop.\n55.- Euro pro Pers. zzgl. Materialkosten.
ATTACH;FMTTYPE=image/jpeg:https://filzfrieda.de/wp-content/uploads/2024/02
 /A1CA8F11-62FE-4B20-BCE6-28B8605FD6A9.jpg
CATEGORIES:Filzen
LOCATION:Filzfrieda\, Westenstr. 9\, Schwerte\, 58239\, Deutschland
GEO:51.43955;7.568080000000009
X-APPLE-STRUCTURED-LOCATION;VALUE=URI;X-ADDRESS=Westenstr. 9\, Schwerte\, 5
 8239\, Deutschland;X-APPLE-RADIUS=100;X-TITLE=Filzfrieda:geo:51.43955,7.56
 8080000000009
END:VEVENT
BEGIN:VTIMEZONE
TZID:Europe/Berlin
X-LIC-LOCATION:Europe/Berlin
BEGIN:STANDARD
DTSTART:20251026T020000
TZOFFSETFROM:+0200
TZOFFSETTO:+0100
TZNAME:CET
END:STANDARD
END:VTIMEZONE
END:VCALENDAR