BEGIN:VCALENDAR
VERSION:2.0
PRODID:-//wp-events-plugin.com//6.6.4.4//EN
TZID:Europe/Berlin
X-WR-TIMEZONE:Europe/Berlin
BEGIN:VEVENT
UID:37@filzfrieda.de
DTSTART;TZID=Europe/Berlin:20151217T170000
DTEND;TZID=Europe/Berlin:20151217T210000
DTSTAMP:20151109T134658Z
URL:https://filzfrieda.de/workshops/last-minute-geschenke/
SUMMARY:Last Minute Geschenke ... Ausgebucht!
DESCRIPTION:Du benötigst für Deine beste Freundin\, Mama\, Freun\, Partne
 r\, Oma etc. noch ein tolles Weihnachtsgeschenk?\n\nSelbstgemachte Geschen
 ke kommen von Herzen und besonders gut an. In diesem Workshop kannst Du ei
 ne tolle Leuchte\, eine kuschelige Wärmflasche\, ein elegante Rosenkette\
 , eine praktische Tablet-Tasche oder\, oder\, oder \, oder filzen.\n\n&nbs
 p\;\n\n36\,- pro Person zzgl. Materialkosten
ATTACH;FMTTYPE=image/jpeg:https://filzfrieda.de/wp-content/uploads/2015/03
 /filzfrieda_leuchte_elfenstaub.jpg
CATEGORIES:Filzen
LOCATION:Filzfrieda\, Westenstr. 9\, Schwerte\, 58239\, Deutschland
GEO:51.43955;7.568080000000009
X-APPLE-STRUCTURED-LOCATION;VALUE=URI;X-ADDRESS=Westenstr. 9\, Schwerte\, 5
 8239\, Deutschland;X-APPLE-RADIUS=100;X-TITLE=Filzfrieda:geo:51.43955,7.56
 8080000000009
END:VEVENT
BEGIN:VTIMEZONE
TZID:Europe/Berlin
X-LIC-LOCATION:Europe/Berlin
BEGIN:STANDARD
DTSTART:20151025T020000
TZOFFSETFROM:+0200
TZOFFSETTO:+0100
TZNAME:CET
END:STANDARD
END:VTIMEZONE
END:VCALENDAR