BEGIN:VCALENDAR
VERSION:2.0
PRODID:-//wp-events-plugin.com//6.6.4.4//EN
TZID:Europe/Berlin
X-WR-TIMEZONE:Europe/Berlin
BEGIN:VEVENT
UID:1031@filzfrieda.de
DTSTART;TZID=Europe/Berlin:20260115T170000
DTEND;TZID=Europe/Berlin:20260115T200000
DTSTAMP:20251201T081455Z
URL:https://filzfrieda.de/workshops/kuschelige-waermflaschen-filzen-plaetz
 e-frei-3/
SUMMARY:Kuschelige Wärmflaschen filzen  ... ausgebucht
DESCRIPTION:In diesem Workshop filzen wir kuschelig und weiche Wärmflasche
 n aus extrafeiner Merinowolle\, die halten die Wärme lange an und sehen a
 uf dem Sofa toll aus!\n\nOb mit Eule\, Rentier\, Fliegenpilzen etc. der Kr
 eativität sind keine Grenzen gesetzt.\n\n55.- Euro pro Pers. zzgl. Materi
 alkosten.
ATTACH;FMTTYPE=image/jpeg:https://filzfrieda.de/wp-content/uploads/2024/11
 /IMG_8271_jpg.jpg
CATEGORIES:Filzen
LOCATION:Filzfrieda\, Westenstr. 9\, Schwerte\, 58239\, Deutschland
GEO:51.43955;7.568080000000009
X-APPLE-STRUCTURED-LOCATION;VALUE=URI;X-ADDRESS=Westenstr. 9\, Schwerte\, 5
 8239\, Deutschland;X-APPLE-RADIUS=100;X-TITLE=Filzfrieda:geo:51.43955,7.56
 8080000000009
END:VEVENT
BEGIN:VTIMEZONE
TZID:Europe/Berlin
X-LIC-LOCATION:Europe/Berlin
BEGIN:STANDARD
DTSTART:20251026T020000
TZOFFSETFROM:+0200
TZOFFSETTO:+0100
TZNAME:CET
END:STANDARD
END:VTIMEZONE
END:VCALENDAR