BEGIN:VCALENDAR
VERSION:2.0
PRODID:-//wp-events-plugin.com//6.6.4.4//EN
TZID:Europe/Berlin
X-WR-TIMEZONE:Europe/Berlin
BEGIN:VEVENT
UID:1032@filzfrieda.de
DTSTART;TZID=Europe/Berlin:20260120T170000
DTEND;TZID=Europe/Berlin:20260120T210000
DTSTAMP:20251013T124136Z
URL:https://filzfrieda.de/workshops/kuschelige-armstulpen-und-pulswaermer/
SUMMARY:Kuschelige Armstulpen und Pulswärmer
DESCRIPTION:Wenn die Tage kürzer werden und die Kälte in die Finger kriec
 ht\, gibt es kaum etwas Schöneres\, als gemeinsam kreativ zu werden und m
 it warmen Wasser und Seifenschaum zu filzen!\n In gemütlicher Atmosphäre
  laden ich dich ein\, in Filzfriedas Atelier die wohlig-warme Welt des Fil
 zens zu entdecken.\nGestalte deine eigenen kuscheligen Armstulpen oder Pul
 swärmer aus feiner\, weicher Merino-Wolle – handgefilzt und ganz nach d
 einem Geschmack: mit Eulen\, Rosen\, Blumenranken oder kleinen Herzen – 
 deiner Fantasie sind keine Grenzen gesetzt!\nVerbringe einen entspannten\,
  kreativen Abend in netter Runde\, genieße den Zauber des Winters und nim
 m am Ende dein persönliches Filzkunstwerk mit nach Hause – einzigartig\
 , handgemacht und mit Liebe geschaffen.\nBitte 2 Handtücher mitbringen.\n
 \n55.- Euro zzgl. Materialkosten\n\n&nbsp\;
CATEGORIES:Filzen
LOCATION:Filzfrieda\, Westenstr. 9\, Schwerte\, 58239\, Deutschland
GEO:51.43955;7.568080000000009
X-APPLE-STRUCTURED-LOCATION;VALUE=URI;X-ADDRESS=Westenstr. 9\, Schwerte\, 5
 8239\, Deutschland;X-APPLE-RADIUS=100;X-TITLE=Filzfrieda:geo:51.43955,7.56
 8080000000009
END:VEVENT
BEGIN:VTIMEZONE
TZID:Europe/Berlin
X-LIC-LOCATION:Europe/Berlin
BEGIN:STANDARD
DTSTART:20251026T020000
TZOFFSETFROM:+0200
TZOFFSETTO:+0100
TZNAME:CET
END:STANDARD
END:VTIMEZONE
END:VCALENDAR