BEGIN:VCALENDAR
VERSION:2.0
PRODID:-//wp-events-plugin.com//6.6.4.4//EN
TZID:Europe/Berlin
X-WR-TIMEZONE:Europe/Berlin
BEGIN:VEVENT
UID:1033@filzfrieda.de
DTSTART;TZID=Europe/Berlin:20260122T160000
DTEND;TZID=Europe/Berlin:20260122T180000
DTSTAMP:20251013T124354Z
URL:https://filzfrieda.de/workshops/kreativzeit-fuer-kinder-erwachsene-als
 -team/
SUMMARY:Kreativzeit für Kinder & Erwachsene als Team
DESCRIPTION:Filzspaß für Groß &amp\; Klein: Herbstliche Fröhlichmacher 
 aus Wolle\nGemeinsam kreativ werden – das macht auch im Sommer besonders
  viel Freude!\nIn diesem Workshop filzt du zusammen mit deiner Tochter ode
 r deinem Sohn fröhliche Eulen\, niedliche Igel\, kleine Waldtiere oder an
 dere herbstliche Figuren aus weicher Wolle.\nNatürlich sind auch andere k
 reative Teams herzlich willkommen – ob Papa-Kind\, Oma-Enkel\, Tante-Nic
 hte oder Patenkind und Lieblingsmensch.\nEs ist immer wieder schön zu seh
 en\, wie stolz die Kinder am Ende ihre selbstgemachten Filz-Fröhlichmache
 r mit nach Hause nehmen.\nBitte zwei Handtücher mitbringen.\nKosten: 19\,
 50 € pro Person\, zuzüglich Materialkosten von ca. 5 €.\nWenn du 
 mit mehreren Kindern kommen möchtest\, buche bitte pro Person je einen Pl
 atz.
ATTACH;FMTTYPE=image/jpeg:https://filzfrieda.de/wp-content/uploads/2024/08
 /filzfrieda_igel-scaled.jpg
CATEGORIES:Filzen
LOCATION:Filzfrieda\, Westenstr. 9\, Schwerte\, 58239\, Deutschland
GEO:51.43955;7.568080000000009
X-APPLE-STRUCTURED-LOCATION;VALUE=URI;X-ADDRESS=Westenstr. 9\, Schwerte\, 5
 8239\, Deutschland;X-APPLE-RADIUS=100;X-TITLE=Filzfrieda:geo:51.43955,7.56
 8080000000009
END:VEVENT
BEGIN:VTIMEZONE
TZID:Europe/Berlin
X-LIC-LOCATION:Europe/Berlin
BEGIN:STANDARD
DTSTART:20251026T020000
TZOFFSETFROM:+0200
TZOFFSETTO:+0100
TZNAME:CET
END:STANDARD
END:VTIMEZONE
END:VCALENDAR