BEGIN:VCALENDAR
VERSION:2.0
PRODID:-//wp-events-plugin.com//6.6.4.4//EN
TZID:Europe/Berlin
X-WR-TIMEZONE:Europe/Berlin
BEGIN:VEVENT
UID:1061@filzfrieda.de
DTSTART;TZID=Europe/Berlin:20260505T160000
DTEND;TZID=Europe/Berlin:20260505T180000
DTSTAMP:20260228T083005Z
URL:https://filzfrieda.de/workshops/kreativzeit-fuer-kinder-erwachsene-als
 -team-plaetze-frei/
SUMMARY:Kreativzeit für Kinder & Erwachsene als Team … Plätze frei!
DESCRIPTION:Filzspaß für Groß &amp\; Klein: Fröhlichmacher aus Wolle\nG
 emeinsam kreativ werden – das macht besonders viel Freude!\nIn diesem Wo
 rkshop filzt du zusammen mit deiner Tochter oder deinem Sohn bunte Schmett
 erlinge\, fröhliche Vögel\, witzige Monster oder ein anderes süßes Wes
 en aus weicher Wolle.\nNatürlich sind auch andere kreative Teams herzlich
  willkommen – ob Papa-Kind\, Oma-Enkel\, Tante-Nichte oder Patenkind und
  Lieblingsmensch.\nEs ist immer wieder schön zu sehen\, wie stolz die Kin
 der am Ende ihre selbstgemachten Filz-Fröhlichmacher mit nach Hause nehme
 n.\nBitte zwei Handtücher mitbringen.\nKosten: 19\,50 € pro Person\, 
 zuzüglich Materialkosten von ca. 5 €.\nWenn du mit mehreren Kindern k
 ommen möchtest\, buche bitte pro Person je einen Platz.
ATTACH;FMTTYPE=image/jpeg:https://filzfrieda.de/wp-content/uploads/2024/11
 /IMG_8291_jpg.jpg
CATEGORIES:Filzen
LOCATION:Filzfrieda\, Westenstr. 9\, Schwerte\, 58239\, Deutschland
GEO:51.43955;7.568080000000009
X-APPLE-STRUCTURED-LOCATION;VALUE=URI;X-ADDRESS=Westenstr. 9\, Schwerte\, 5
 8239\, Deutschland;X-APPLE-RADIUS=100;X-TITLE=Filzfrieda:geo:51.43955,7.56
 8080000000009
END:VEVENT
BEGIN:VTIMEZONE
TZID:Europe/Berlin
X-LIC-LOCATION:Europe/Berlin
BEGIN:DAYLIGHT
DTSTART:20260329T030000
TZOFFSETFROM:+0100
TZOFFSETTO:+0200
TZNAME:CEST
END:DAYLIGHT
END:VTIMEZONE
END:VCALENDAR