BEGIN:VCALENDAR
VERSION:2.0
PRODID:-//wp-events-plugin.com//6.6.4.4//EN
TZID:Europe/Berlin
X-WR-TIMEZONE:Europe/Berlin
BEGIN:VEVENT
UID:1070@filzfrieda.de
DTSTART;TZID=Europe/Berlin:20260624T170000
DTEND;TZID=Europe/Berlin:20260624T210000
DTSTAMP:20260228T092053Z
URL:https://filzfrieda.de/workshops/koerbchen-vasen-und-andere-aufbewahrun
 gen-plaetze-frei-7/
SUMMARY:Körbchen\, Vasen und andere Aufbewahrungen ... Plätze frei!
DESCRIPTION:Die Leer in der Mitte macht das Gefäß! Von Laotse\n\nNach die
 sem Motto kannst Du in diesem Workshop schöne Filzkörbchen\, dekorative 
 Gefäße\, Vasen und andere Aufbewahrungen filzen.\n\nOb Du Sie als als Au
 fbewahrung oder zur Dekoration einsetzt\, da bleibt Dir überlassen. Wir s
 pielen mit Farben\, Formen und verschiedenen Oberflächen.\n\n59.- Euro pr
 o Pers. zzgl. Materialkosten.
ATTACH;FMTTYPE=image/jpeg:https://filzfrieda.de/wp-content/uploads/2023/05
 /B7B22599-16B4-4315-98CB-1286969115B2.jpg
CATEGORIES:Filzen
LOCATION:Filzfrieda\, Westenstr. 9\, Schwerte\, 58239\, Deutschland
GEO:51.43955;7.568080000000009
X-APPLE-STRUCTURED-LOCATION;VALUE=URI;X-ADDRESS=Westenstr. 9\, Schwerte\, 5
 8239\, Deutschland;X-APPLE-RADIUS=100;X-TITLE=Filzfrieda:geo:51.43955,7.56
 8080000000009
END:VEVENT
BEGIN:VTIMEZONE
TZID:Europe/Berlin
X-LIC-LOCATION:Europe/Berlin
BEGIN:DAYLIGHT
DTSTART:20260329T030000
TZOFFSETFROM:+0100
TZOFFSETTO:+0200
TZNAME:CEST
END:DAYLIGHT
END:VTIMEZONE
END:VCALENDAR