BEGIN:VCALENDAR
VERSION:2.0
PRODID:-//wp-events-plugin.com//6.6.4.4//EN
TZID:Europe/Berlin
X-WR-TIMEZONE:Europe/Berlin
BEGIN:VEVENT
UID:1025@filzfrieda.de
DTSTART;TZID=Europe/Berlin:20251209T160000
DTEND;TZID=Europe/Berlin:20251209T180000
DTSTAMP:20251104T201317Z
URL:https://filzfrieda.de/workshops/geschenkidee-zu-nikolaus-i-mutter-kind
 -filzen-gemeinsam-plaetze-frei-5/
SUMMARY:Geschenkidee zu Nikolaus I: Mutter & Kind filzen gemeinsam ... ausg
 ebucht!!
DESCRIPTION:Entdecke gemeinsam mit Deiner Tochter oder Deinem Sohn wie viel
  Freude es macht\, fröhliche Adventsdekorationen wie z.B. einen lustigen 
 Elch\, einen Weihnachtsmann\, stimmungsvolle Windlichter\, Tannenbäume us
 w. aus weicher Wolle herzustellen. Selbstverständlich sind auch Vater-Kin
 d\, Oma-Kind\, Tante-Kind oder andere Kombinationen willkommen \;-)\nSo wi
 rd Euch nicht langweilig\, Ihr verbringt gemeinsam ein kreative Zeit und n
 ehmt noch etwas schönes mit nach Hause.\nBitte 2 Handtücher mitbringen.\
 n\n&nbsp\;\n\nDU KANNST AUCH MIT 2 KINDERN ODER MEHR KOMMEN\, BITTE DIE AN
 ZAHL DER TEILNEHMER BUCHEN.
ATTACH;FMTTYPE=image/jpeg:https://filzfrieda.de/wp-content/uploads/2023/05
 /HipstamaticPhoto-707136942.305404.jpg
CATEGORIES:Filzen
LOCATION:Filzfrieda\, Westenstr. 9\, Schwerte\, 58239\, Deutschland
GEO:51.43955;7.568080000000009
X-APPLE-STRUCTURED-LOCATION;VALUE=URI;X-ADDRESS=Westenstr. 9\, Schwerte\, 5
 8239\, Deutschland;X-APPLE-RADIUS=100;X-TITLE=Filzfrieda:geo:51.43955,7.56
 8080000000009
END:VEVENT
BEGIN:VTIMEZONE
TZID:Europe/Berlin
X-LIC-LOCATION:Europe/Berlin
BEGIN:STANDARD
DTSTART:20251026T020000
TZOFFSETFROM:+0200
TZOFFSETTO:+0100
TZNAME:CET
END:STANDARD
END:VTIMEZONE
END:VCALENDAR