BEGIN:VCALENDAR
VERSION:2.0
PRODID:-//wp-events-plugin.com//6.6.4.4//EN
TZID:Europe/Berlin
X-WR-TIMEZONE:Europe/Berlin
BEGIN:VEVENT
UID:1046@filzfrieda.de
DTSTART;TZID=Europe/Berlin:20260307T100000
DTEND;TZID=Europe/Berlin:20260307T160000
DTSTAMP:20260305T143251Z
URL:https://filzfrieda.de/workshops/filzfun-im-maerz-fruehlingsfreude-plae
 tze-frei/
SUMMARY:Filzfun im März – Frühlingsfreude ... Plätze frei!
DESCRIPTION:Filze Dir Dein eigenes Lieblingsstück in gemütlichem Ambiente
ATTACH;FMTTYPE=image/jpeg:https://filzfrieda.de/wp-content/uploads/2023/11
 /IMG_2887-1-scaled.jpg
CATEGORIES:Filzen
END:VEVENT
BEGIN:VTIMEZONE
TZID:Europe/Berlin
X-LIC-LOCATION:Europe/Berlin
BEGIN:STANDARD
DTSTART:20251026T020000
TZOFFSETFROM:+0200
TZOFFSETTO:+0100
TZNAME:CET
END:STANDARD
END:VTIMEZONE
END:VCALENDAR