BEGIN:VCALENDAR
VERSION:2.0
PRODID:-//wp-events-plugin.com//6.6.4.4//EN
TZID:Europe/Berlin
X-WR-TIMEZONE:Europe/Berlin
BEGIN:VEVENT
UID:1035@filzfrieda.de
DTSTART;TZID=Europe/Berlin:20260131T100000
DTEND;TZID=Europe/Berlin:20260131T160000
DTSTAMP:20251216T053301Z
URL:https://filzfrieda.de/workshops/filzfun-im-januar-hyggelig-plaetze-fre
 i/
SUMMARY:Filzfun im Januar : Hyggelig ... ausgebucht!
DESCRIPTION:Filze Dir Dein eigenes Lieblingsstück in gemütlichem Ambiente
ATTACH;FMTTYPE=image/jpeg:https://filzfrieda.de/wp-content/uploads/2024/02
 /HipstamaticPhoto-730207728.962765.jpg
CATEGORIES:Filzen
END:VEVENT
BEGIN:VTIMEZONE
TZID:Europe/Berlin
X-LIC-LOCATION:Europe/Berlin
BEGIN:STANDARD
DTSTART:20251026T020000
TZOFFSETFROM:+0200
TZOFFSETTO:+0100
TZNAME:CET
END:STANDARD
END:VTIMEZONE
END:VCALENDAR