BEGIN:VCALENDAR
VERSION:2.0
PRODID:-//wp-events-plugin.com//6.6.4.4//EN
TZID:Europe/Berlin
X-WR-TIMEZONE:Europe/Berlin
BEGIN:VEVENT
UID:1039@filzfrieda.de
DTSTART;TZID=Europe/Berlin:20260214T100000
DTEND;TZID=Europe/Berlin:20260214T160000
DTSTAMP:20251222T114034Z
URL:https://filzfrieda.de/workshops/filzfun-im-februar-ostern-klopft-schon
 -an-plaetze-frei/
SUMMARY:Filzfun im Februar – Ostern klopft schon an... ausgebucht!
DESCRIPTION:Filze Dir Dein eigenes Lieblingsstück in gemütlichem Ambiente
ATTACH;FMTTYPE=image/jpeg:https://filzfrieda.de/wp-content/uploads/2025/10
 /Lotti_Karotti_filzfrieda.jpg
CATEGORIES:Filzen
END:VEVENT
BEGIN:VTIMEZONE
TZID:Europe/Berlin
X-LIC-LOCATION:Europe/Berlin
BEGIN:STANDARD
DTSTART:20251026T020000
TZOFFSETFROM:+0200
TZOFFSETTO:+0100
TZNAME:CET
END:STANDARD
END:VTIMEZONE
END:VCALENDAR