BEGIN:VCALENDAR
VERSION:2.0
PRODID:-//wp-events-plugin.com//6.6.4.4//EN
TZID:Europe/Berlin
X-WR-TIMEZONE:Europe/Berlin
BEGIN:VEVENT
UID:39@filzfrieda.de
DTSTART;TZID=Europe/Berlin:20150411T110000
DTEND;TZID=Europe/Berlin:20150411T170000
DTSTAMP:20150330T062622Z
URL:https://filzfrieda.de/workshops/filzfun-4/
SUMMARY:Filzfun ___ Workshop ist ausgebucht
DESCRIPTION:Filzfun am Wochenenden.\n\nIn diesem Workshop hast Du ausreiche
 nd Zeit auch größere Objekte wie z.B. eine Tasche\, einen Hut\, eine mä
 rchenhafte Handpuppen\, Pantoffeln und anderes zu filzen. Auch Schultüten
  sind möglich!\n\nBitte 2 Handtücher mitbringen\n\n55\,- zzgl Materialko
 sten inkl. Getränke und Snack\n\n&nbsp\;
ATTACH;FMTTYPE=image/jpeg:https://filzfrieda.de/wp-content/uploads/2015/03
 /filzfrieda_frollein_smila.jpg
CATEGORIES:Filzen
LOCATION:Filzfrieda\, Westenstr. 9\, Schwerte\, 58239\, Deutschland
GEO:51.43955;7.568080000000009
X-APPLE-STRUCTURED-LOCATION;VALUE=URI;X-ADDRESS=Westenstr. 9\, Schwerte\, 5
 8239\, Deutschland;X-APPLE-RADIUS=100;X-TITLE=Filzfrieda:geo:51.43955,7.56
 8080000000009
END:VEVENT
BEGIN:VTIMEZONE
TZID:Europe/Berlin
X-LIC-LOCATION:Europe/Berlin
BEGIN:DAYLIGHT
DTSTART:20150329T030000
TZOFFSETFROM:+0100
TZOFFSETTO:+0200
TZNAME:CEST
END:DAYLIGHT
END:VTIMEZONE
END:VCALENDAR