BEGIN:VCALENDAR
VERSION:2.0
PRODID:-//wp-events-plugin.com//6.6.4.4//EN
TZID:Europe/Berlin
X-WR-TIMEZONE:Europe/Berlin
BEGIN:VEVENT
UID:24@filzfrieda.de
DTSTART;TZID=Europe/Berlin:20151017T100000
DTEND;TZID=Europe/Berlin:20151017T160000
DTSTAMP:20150415T051504Z
URL:https://filzfrieda.de/workshops/filzfun-2/
SUMMARY:Filzfun Oktober I
DESCRIPTION:Filzfun am Wochenenden.\n\nIn diesem Workshop hast Du ausreiche
 nd Zeit auch größere Objekte wie z.B. eine Tasche\, einen Hut\, eine mä
 rchenhafte Handpuppen\, Pantoffeln und anderes zu filzen. Auch Schultüten
  sind möglich!\n\nBitte 2 Handtücher mitbringen\n\n55\,- zzgl Materialko
 sten inkl. Getränke und Snack\n\nFür Besucher mit einer weiten Anreise i
 st dieser Workshop auch gut mit dem Sonntags Workshop am 18. Oktober zu ko
 mbinieren.\n\nÜbernachtungsmöglichempfehlungen: B&amp\;B Nr.1 Schwerte o
 der Hotel Reichshof\n\n&nbsp\;
ATTACH;FMTTYPE=image/jpeg:https://filzfrieda.de/wp-content/uploads/2015/03
 /filzfrieda_cameleon_02.jpg
CATEGORIES:Filzen
LOCATION:Filzfrieda\, Westenstr. 9\, Schwerte\, 58239\, Deutschland
GEO:51.43955;7.568080000000009
X-APPLE-STRUCTURED-LOCATION;VALUE=URI;X-ADDRESS=Westenstr. 9\, Schwerte\, 5
 8239\, Deutschland;X-APPLE-RADIUS=100;X-TITLE=Filzfrieda:geo:51.43955,7.56
 8080000000009
END:VEVENT
BEGIN:VTIMEZONE
TZID:Europe/Berlin
X-LIC-LOCATION:Europe/Berlin
BEGIN:DAYLIGHT
DTSTART:20150329T030000
TZOFFSETFROM:+0100
TZOFFSETTO:+0200
TZNAME:CEST
END:DAYLIGHT
END:VTIMEZONE
END:VCALENDAR