BEGIN:VCALENDAR
VERSION:2.0
PRODID:-//wp-events-plugin.com//6.6.4.4//EN
TZID:Europe/Berlin
X-WR-TIMEZONE:Europe/Berlin
BEGIN:VEVENT
UID:1068@filzfrieda.de
DTSTART;TZID=Europe/Berlin:20260611T170000
DTEND;TZID=Europe/Berlin:20260611T210000
DTSTAMP:20260228T091225Z
URL:https://filzfrieda.de/workshops/filzfroehliche-leuchtobjekte-plaetze-f
 rei-32/
SUMMARY:Filzfröhliche Leuchtobjekte  ... Plätze frei!
DESCRIPTION:In diesem Workshop wollen wir stimmungsvolle Leuchtobjekt filze
 n.\n\nEine Märchenleuchte\, ein Wichtelhäuschen oder schöne Windlichter
  z. B. mit Schneeglöckchen.\n\nGerade im Januar\, wenn es so früh dunkel
  wird ist es schön Dein Zuhause mit fantasievollen Lampen schön gemütli
 ch zu gestalten.\n\nWir verbringen einen gemütlichen Abend im Atelier und
  Du nimmst Deinen selbst gefilzten Fröhlichmacher mit nach Hause.\n\nBitt
 e 2 Handtücher mitbringen und evtl. Lampenschirme oder Glaslampen z. B. v
 on Ikea mit bringen. Gläser für Windlichter können im Workshop erworben
  werden.\n\n59.- Euro pro Pers. zzgl. Materialkosten.
ATTACH;FMTTYPE=image/jpeg:https://filzfrieda.de/wp-content/uploads/2020/06
 /AE869D5D-2FBB-4E1A-91B2-80536177A4E3.jpeg
CATEGORIES:Filzen
LOCATION:Filzfrieda\, Westenstr. 9\, Schwerte\, 58239\, Deutschland
GEO:51.43955;7.568080000000009
X-APPLE-STRUCTURED-LOCATION;VALUE=URI;X-ADDRESS=Westenstr. 9\, Schwerte\, 5
 8239\, Deutschland;X-APPLE-RADIUS=100;X-TITLE=Filzfrieda:geo:51.43955,7.56
 8080000000009
END:VEVENT
BEGIN:VTIMEZONE
TZID:Europe/Berlin
X-LIC-LOCATION:Europe/Berlin
BEGIN:DAYLIGHT
DTSTART:20260329T030000
TZOFFSETFROM:+0100
TZOFFSETTO:+0200
TZNAME:CEST
END:DAYLIGHT
END:VTIMEZONE
END:VCALENDAR