BEGIN:VCALENDAR
VERSION:2.0
PRODID:-//wp-events-plugin.com//6.6.4.4//EN
TZID:Europe/Berlin
X-WR-TIMEZONE:Europe/Berlin
BEGIN:VEVENT
UID:36@filzfrieda.de
DTSTART;TZID=Europe/Berlin:20151210T170000
DTEND;TZID=Europe/Berlin:20151210T210000
DTSTAMP:20151124T232743Z
URL:https://filzfrieda.de/workshops/filzfroehliche-leuchtobjekte-2/
SUMMARY:Filzfröhliche Leuchtobjekte  ... ausgebucht!
DESCRIPTION:In diesem Workshop wollen wir stimmungsvolle Leuchtobjekt filze
 n. z.B. ein Märchenturm\, Lampenschirme mit floralen Mustern\, stimmungsv
 olle Windlichter für die Terrasse oder das Wohnzimmer\, entdecke wieviel 
 Spaß es macht diese fantasievollen Leuchtenbezüge zu filzen.\n\nBitte La
 mpenschirme oder Glaslampen z.B. von Ikea mit bringen. Gläser für Windli
 chter können im Workshop erworben werden.\n\n36.- Euro pro Pers. zzgl. Ma
 terialkosten
ATTACH;FMTTYPE=image/jpeg:https://filzfrieda.de/wp-content/uploads/2015/03
 /filzfrieda_knusperhaus.jpg
CATEGORIES:Filzen
LOCATION:Filzfrieda\, Westenstr. 9\, Schwerte\, 58239\, Deutschland
GEO:51.43955;7.568080000000009
X-APPLE-STRUCTURED-LOCATION;VALUE=URI;X-ADDRESS=Westenstr. 9\, Schwerte\, 5
 8239\, Deutschland;X-APPLE-RADIUS=100;X-TITLE=Filzfrieda:geo:51.43955,7.56
 8080000000009
END:VEVENT
BEGIN:VTIMEZONE
TZID:Europe/Berlin
X-LIC-LOCATION:Europe/Berlin
BEGIN:STANDARD
DTSTART:20151025T020000
TZOFFSETFROM:+0200
TZOFFSETTO:+0100
TZNAME:CET
END:STANDARD
END:VTIMEZONE
END:VCALENDAR