BEGIN:VCALENDAR
VERSION:2.0
PRODID:-//wp-events-plugin.com//6.6.4.4//EN
TZID:Europe/Berlin
X-WR-TIMEZONE:Europe/Berlin
BEGIN:VEVENT
UID:1057@filzfrieda.de
DTSTART;TZID=Europe/Berlin:20260425T160000
DTEND;TZID=Europe/Berlin:20260425T190000
DTSTAMP:20260413T091318Z
URL:https://filzfrieda.de/workshops/filzfriedas-paint-prosecco-plaetze-fre
 i-4/
SUMMARY:filzfrieda's - Paint & Prosecco – ausgebucht!
DESCRIPTION:Leuchtende Frühlingsmotive mit Gute-Laune-Garantie\nFrühlings
 frische Aquarellbilder voller Leichtigkeit und Farbe – entdecke die Aqua
 rellmalerei und lass den Frühling auf dem Papier erblühen.\nBei Paint &a
 mp\; Prosecco steht kreative Entspannung im Fokus: In gemütlicher Atmosph
 äre genießen wir einen inspirierenden Abend mit Prosecco und feinem Fing
 erfood. Mit Aquarellfarben gestalten wir zauberhafte Frühlingsboten und a
 ndere fröhliche\, lichtvolle Motive.\nFrische Impulse\, gute Laune und be
 sondere Momente – Herzensdinge gestalten und den Alltag hinter sich lass
 en.\nLass uns gemeinsam den Frühling feiern und den April zum Leuchten br
 ingen.\nAuch eine wunderbare Idee für eine kreative Auszeit mit Deinen Fr
 eundinnen.\n59\,- € inkl. Material\, Getränke &amp\; Snack\n&nbsp\;
ATTACH;FMTTYPE=image/jpeg:https://filzfrieda.de/wp-content/uploads/2025/06
 /caravan.png
END:VEVENT
BEGIN:VTIMEZONE
TZID:Europe/Berlin
X-LIC-LOCATION:Europe/Berlin
BEGIN:DAYLIGHT
DTSTART:20260329T030000
TZOFFSETFROM:+0100
TZOFFSETTO:+0200
TZNAME:CEST
END:DAYLIGHT
END:VTIMEZONE
END:VCALENDAR