BEGIN:VCALENDAR
VERSION:2.0
PRODID:-//wp-events-plugin.com//6.6.4.4//EN
TZID:Europe/Berlin
X-WR-TIMEZONE:Europe/Berlin
BEGIN:VEVENT
UID:38@filzfrieda.de
DTSTART;TZID=Europe/Berlin:20160407T170000
DTEND;TZID=Europe/Berlin:20160407T210000
DTSTAMP:20160118T143855Z
URL:https://filzfrieda.de/workshops/filzen-im-erdbeerfieber/
SUMMARY:Filzen im Erdbeerfieber ... Plätze frei!
DESCRIPTION:Bist Du auch so wild auf Erdbeeren? In diesem Workshop geht es 
 um Beeren in alles Variationen. Ob Windlichter mit Erdbeerem\, ein Loopsch
 al mit fruchtigen Beeren\, eine Johannisbeerkette eine Erdbeer-Elfe oder\,
  oder\, oder. Der Frühling ist da und die Lust auf filzig fruchtige Beere
 n.\n\n36\,- pro Person zzgl. Materilkosten
ATTACH;FMTTYPE=image/jpeg:https://filzfrieda.de/wp-content/uploads/2015/01
 /filzfrieda_wl_erdbeer.jpg
CATEGORIES:Filzen
LOCATION:Filzfrieda\, Westenstr. 9\, Schwerte\, 58239\, Deutschland
GEO:51.43955;7.568080000000009
X-APPLE-STRUCTURED-LOCATION;VALUE=URI;X-ADDRESS=Westenstr. 9\, Schwerte\, 5
 8239\, Deutschland;X-APPLE-RADIUS=100;X-TITLE=Filzfrieda:geo:51.43955,7.56
 8080000000009
END:VEVENT
BEGIN:VTIMEZONE
TZID:Europe/Berlin
X-LIC-LOCATION:Europe/Berlin
BEGIN:DAYLIGHT
DTSTART:20160327T030000
TZOFFSETFROM:+0100
TZOFFSETTO:+0200
TZNAME:CEST
END:DAYLIGHT
END:VTIMEZONE
END:VCALENDAR