BEGIN:VCALENDAR
VERSION:2.0
PRODID:-//wp-events-plugin.com//6.6.4.4//EN
TZID:Europe/Berlin
X-WR-TIMEZONE:Europe/Berlin
BEGIN:VEVENT
UID:1066@filzfrieda.de
DTSTART;TZID=Europe/Berlin:20260512T170000
DTEND;TZID=Europe/Berlin:20260512T210000
DTSTAMP:20260413T100030Z
URL:https://filzfrieda.de/workshops/filzen-im-erdbeerfieber-plaetze/
SUMMARY:Filzen im Erdbeerfieber ... ausgebucht!
DESCRIPTION:Bist Du auch so wild auf Erdbeeren?\nIn diesem Workshop geht es
  um Beeren in alles Variationen. Ob Windlichter mit Erdbeerem\, ein Loopsc
 hal mit fruchtigen Beeren\, eine Johannisbeerkette eine Erdbeer-Elfe oder\
 , oder\, oder?\nDer Frühling ist da und die Lust auf filzig fruchtige Bee
 ren.\n\nFreue Dich auf einen kreativen Abend im gemütlichem Atelier!\n\nB
 itte 2 Handtücher mitbringen.\n\n59.- Euro pro Pers. zzgl. Materialkosten
 .\n\n&nbsp\;
ATTACH;FMTTYPE=image/jpeg:https://filzfrieda.de/wp-content/uploads/2025/03
 /IMG_3083_jpg.jpeg
CATEGORIES:Filzen
LOCATION:Filzfrieda\, Westenstr. 9\, Schwerte\, 58239\, Deutschland
GEO:51.43955;7.568080000000009
X-APPLE-STRUCTURED-LOCATION;VALUE=URI;X-ADDRESS=Westenstr. 9\, Schwerte\, 5
 8239\, Deutschland;X-APPLE-RADIUS=100;X-TITLE=Filzfrieda:geo:51.43955,7.56
 8080000000009
END:VEVENT
BEGIN:VTIMEZONE
TZID:Europe/Berlin
X-LIC-LOCATION:Europe/Berlin
BEGIN:DAYLIGHT
DTSTART:20260329T030000
TZOFFSETFROM:+0100
TZOFFSETTO:+0200
TZNAME:CEST
END:DAYLIGHT
END:VTIMEZONE
END:VCALENDAR