BEGIN:VCALENDAR
VERSION:2.0
PRODID:-//wp-events-plugin.com//6.6.4.4//EN
TZID:Europe/Berlin
X-WR-TIMEZONE:Europe/Berlin
BEGIN:VEVENT
UID:1043@filzfrieda.de
DTSTART;TZID=Europe/Berlin:20260310T170000
DTEND;TZID=Europe/Berlin:20260310T210000
DTSTAMP:20260209T151221Z
URL:https://filzfrieda.de/workshops/filzen-fuer-ostern-iv-plaetze-frei-10/
SUMMARY:Filzen für Ostern IV ...ausgebucht!
DESCRIPTION:Ostern wird filzfröhlich\, wundervoll und bunt!\nDer Frühling
  steht vor der Tür – Zeit für frische Farben\, neue Inspiration und kr
 eative Leichtigkeit! \nIn diesem Workshop darfst du die leuchtenden Töne 
 des Frühlings in Wolle verwandeln und dein ganz eigenes Filzkunstwerk ges
 talten. Ob witzige Hasen\, blumige Kränze Blumen\, zarte Windlichter\, de
 korative Schalen oder kleine Frühlingsboten – Deiner Fantasie sind kein
 e Grenzen gesetzt.\nGenieße einen entspannten\, farbenfrohen Abend im Ate
 lier von Filzfrieda\, umgeben von guter Laune\, weicher Wolle und kreative
 r Energie – und nimm am Ende dein handgemachtes Stück Frühling mit nac
 h Hause. \nBitte 2 Handtücher mitbringen.\n\n55.- Euro pro Pers. zzgl. Ma
 terialkosten.\n\n&nbsp\;
ATTACH;FMTTYPE=image/jpeg:https://filzfrieda.de/wp-content/uploads/2025/10
 /Vase_hase_filzfrieda.jpg
CATEGORIES:Filzen
LOCATION:Filzfrieda\, Westenstr. 9\, Schwerte\, 58239\, Deutschland
GEO:51.43955;7.568080000000009
X-APPLE-STRUCTURED-LOCATION;VALUE=URI;X-ADDRESS=Westenstr. 9\, Schwerte\, 5
 8239\, Deutschland;X-APPLE-RADIUS=100;X-TITLE=Filzfrieda:geo:51.43955,7.56
 8080000000009
END:VEVENT
BEGIN:VTIMEZONE
TZID:Europe/Berlin
X-LIC-LOCATION:Europe/Berlin
BEGIN:STANDARD
DTSTART:20251026T020000
TZOFFSETFROM:+0200
TZOFFSETTO:+0100
TZNAME:CET
END:STANDARD
END:VTIMEZONE
END:VCALENDAR