BEGIN:VCALENDAR
VERSION:2.0
PRODID:-//wp-events-plugin.com//6.6.4.4//EN
TZID:Europe/Berlin
X-WR-TIMEZONE:Europe/Berlin
BEGIN:VEVENT
UID:1027@filzfrieda.de
DTSTART;TZID=Europe/Berlin:20251202T170000
DTEND;TZID=Europe/Berlin:20251202T210000
DTSTAMP:20251112T074728Z
URL:https://filzfrieda.de/workshops/filzen-fuer-den-advent-v-zusatztermin-
 plaetze-frei/
SUMMARY:Filzen für den Advent V ... ausgebucht!
DESCRIPTION:Tauche ein in die vorweihnachtliche Stimmung und gestalte deine
  ganz persönlichen Adventsdekorationen. Ob süße Elche\, witzige Weihnac
 htswichte\, drollige Tannenbäume\, stimmungsvolle Windlichter\, Rentiersc
 hnecken\, Zimtschnecken oder andere kleine Fröhlichmacher – deiner Krea
 tivität sind keine Grenzen gesetzt. ️✨\nIn gemütlicher Atmosphäre i
 m Atelier von Filzrieda verbringen wir gemeinsam einen entspannten Abend. 
 Schritt für Schritt entsteht dein eigenes\, handgefilztes Unikat\, das di
 ch (oder deine Lieben) durch die Adventszeit begleitet. \nAm Ende nimmst d
 u nicht nur ein Stück Adventszauber mit nach Hause – sondern auch viele
  schöne Erinnerungen. \nBitte bringe zwei Handtücher mit.\n\n55.- Euro p
 ro Pers. zzgl. Materialkosten.\n\n&nbsp\;\n\n&nbsp\;
ATTACH;FMTTYPE=image/jpeg:https://filzfrieda.de/wp-content/uploads/2025/09
 /HipstamaticPhoto-593465056.015989.jpg
CATEGORIES:Filzen
LOCATION:Filzfrieda\, Westenstr. 9\, Schwerte\, 58239\, Deutschland
GEO:51.43955;7.568080000000009
X-APPLE-STRUCTURED-LOCATION;VALUE=URI;X-ADDRESS=Westenstr. 9\, Schwerte\, 5
 8239\, Deutschland;X-APPLE-RADIUS=100;X-TITLE=Filzfrieda:geo:51.43955,7.56
 8080000000009
END:VEVENT
BEGIN:VTIMEZONE
TZID:Europe/Berlin
X-LIC-LOCATION:Europe/Berlin
BEGIN:STANDARD
DTSTART:20251026T020000
TZOFFSETFROM:+0200
TZOFFSETTO:+0100
TZNAME:CET
END:STANDARD
END:VTIMEZONE
END:VCALENDAR