BEGIN:VCALENDAR
VERSION:2.0
PRODID:-//wp-events-plugin.com//6.6.4.4//EN
TZID:Europe/Berlin
X-WR-TIMEZONE:Europe/Berlin
BEGIN:VEVENT
UID:31@filzfrieda.de
DTSTART;TZID=Europe/Berlin:20151110T170000
DTEND;TZID=Europe/Berlin:20151110T210000
DTSTAMP:20151029T094951Z
URL:https://filzfrieda.de/workshops/filzen-fuer-den-advent-iv/
SUMMARY:Filzen für den Advent IV ... ausgebucht!
DESCRIPTION:Advent\, Advent\, die Zeit die rennt \;-) Jetzt schon mal die s
 chönsten Adventsdekoration filzen.\n\nDa gibt es zum Beispiel: Elche\, We
 ihnachtswichtel\, Tannebäume\, Weihnachtsmäuse\, Engel\, Kugeln und viel
  mehr\, lasst euch inspirieren und in eine adventliche Stimmung versetzten
 .\n\n36.- Euro zzgl. Materialkosten
ATTACH;FMTTYPE=image/jpeg:https://filzfrieda.de/wp-content/uploads/2015/01
 /filzfrieda_anton_kranz.jpg
CATEGORIES:Filzen
LOCATION:Filzfrieda\, Westenstr. 9\, Schwerte\, 58239\, Deutschland
GEO:51.43955;7.568080000000009
X-APPLE-STRUCTURED-LOCATION;VALUE=URI;X-ADDRESS=Westenstr. 9\, Schwerte\, 5
 8239\, Deutschland;X-APPLE-RADIUS=100;X-TITLE=Filzfrieda:geo:51.43955,7.56
 8080000000009
END:VEVENT
BEGIN:VTIMEZONE
TZID:Europe/Berlin
X-LIC-LOCATION:Europe/Berlin
BEGIN:STANDARD
DTSTART:20151025T020000
TZOFFSETFROM:+0200
TZOFFSETTO:+0100
TZNAME:CET
END:STANDARD
END:VTIMEZONE
END:VCALENDAR