BEGIN:VCALENDAR
VERSION:2.0
PRODID:-//wp-events-plugin.com//6.6.4.4//EN
TZID:Europe/Berlin
X-WR-TIMEZONE:Europe/Berlin
BEGIN:VEVENT
UID:1038@filzfrieda.de
DTSTART;TZID=Europe/Berlin:20260212T170000
DTEND;TZID=Europe/Berlin:20260212T210000
DTSTAMP:20251203T053101Z
URL:https://filzfrieda.de/workshops/anti-altweiber-filzen-plaetze-frei-8/
SUMMARY:Anti-Altweiber Filzen ... Plätze frei!
DESCRIPTION:Du hast keine Lust auf Karneval? Möchest aber trotzdem einen s
 chönen und lustigen Abend verbringen?\n\nDann bist Du hier richtig. Kamel
 le\, rote Nasen und Konfetti bleibt draußen. Dafür gibt es hier jede Men
 ge bunte Wolle aus der Du lustige Filzwesen\, wundervolle Windlichter\, ku
 schelige Schals oder wenn es doch ein Hauch Karneval sein darf: Conny Conf
 etti filzen.\n\nFreu Dich auf  einen kreativen Abend in gemütlicher Atmo
 sphäre.\n\n55\,- pro Person zzgl. Materilkosten
ATTACH;FMTTYPE=image/jpeg:https://filzfrieda.de/wp-content/uploads/2025/10
 /IMG_2682_jpg.jpg
CATEGORIES:Filzen
LOCATION:Filzfrieda\, Westenstr. 9\, Schwerte\, 58239\, Deutschland
GEO:51.43955;7.568080000000009
X-APPLE-STRUCTURED-LOCATION;VALUE=URI;X-ADDRESS=Westenstr. 9\, Schwerte\, 5
 8239\, Deutschland;X-APPLE-RADIUS=100;X-TITLE=Filzfrieda:geo:51.43955,7.56
 8080000000009
END:VEVENT
BEGIN:VTIMEZONE
TZID:Europe/Berlin
X-LIC-LOCATION:Europe/Berlin
BEGIN:STANDARD
DTSTART:20251026T020000
TZOFFSETFROM:+0200
TZOFFSETTO:+0100
TZNAME:CET
END:STANDARD
END:VTIMEZONE
END:VCALENDAR