BEGIN:VCALENDAR
VERSION:2.0
PRODID:-//wp-events-plugin.com//6.6.4.4//EN
TZID:Europe/Berlin
X-WR-TIMEZONE:Europe/Berlin
BEGIN:VEVENT
UID:1017@filzfrieda.de
DTSTART;TZID=Europe/Berlin:20251030T170000
DTEND;TZID=Europe/Berlin:20251030T210000
DTSTAMP:20250929T084015Z
URL:https://filzfrieda.de/workshops/adventskranz-aus-filz-plaetze-frei-11/
SUMMARY:Adventskranz aus Filz ... ausgebucht!
DESCRIPTION:Dein Traum Adventskranz\, gewickelt aus weichen Schnüren\, ges
 chmückt mit handgefilzten Tannebäumen\, Weihnachtsmäuser\, Zimtschnekce
 n\, Rentieren ...\nDazu viele liebevolle Details – jedes Stück wird zu 
 einem echten Unikat.\nVerbringe einen gemütlichen Abend im Atelier von Fi
 lzfrieda und kreiere deinen ganz persönlichen Traum-Adventskranz. In ents
 pannter Atmosphäre\, mit fachkundiger Anleitung und viel Raum für Kreati
 vität. \nMach dir selbst (oder deinen Liebsten) eine Freude und starte di
 e Adventszeit mit deinem handgefilzten Einzelstück. ️\nBitte bringe zwe
 i Handtücher zum abtrocknen mit.\n\n55.- Euro pro Pers. zzgl. Materialkos
 ten.
ATTACH;FMTTYPE=image/jpeg:https://filzfrieda.de/wp-content/uploads/2021/08
 /HipstamaticPhoto-627931578.533662-scaled.jpg
CATEGORIES:Filzen
LOCATION:Filzfrieda\, Westenstr. 9\, Schwerte\, 58239\, Deutschland
GEO:51.43955;7.568080000000009
X-APPLE-STRUCTURED-LOCATION;VALUE=URI;X-ADDRESS=Westenstr. 9\, Schwerte\, 5
 8239\, Deutschland;X-APPLE-RADIUS=100;X-TITLE=Filzfrieda:geo:51.43955,7.56
 8080000000009
END:VEVENT
BEGIN:VTIMEZONE
TZID:Europe/Berlin
X-LIC-LOCATION:Europe/Berlin
BEGIN:STANDARD
DTSTART:20251026T020000
TZOFFSETFROM:+0200
TZOFFSETTO:+0100
TZNAME:CET
END:STANDARD
END:VTIMEZONE
END:VCALENDAR